BEGIN:VCALENDAR
VERSION:2.0
PRODID:-//Tukios.com/
BEGIN:VEVENT
UID:c5973efa-345f-4cd0-87a3-2565a1706b01@www.holmesmemorialchapel.com
DTSTAMP:20260425T222654Z
DTSTART:20260428T150000Z
DTEND:20260428T170000Z
SUMMARY:Visitation
DESCRIPTION:
URL:https://www.holmesmemorialchapel.com/obituaries/george-reed
LOCATION:Holmes Memorial Chapel 642 W Silver St  Sullivan IN 47882
GEO:39.0862952;-87.4203257
END:VEVENT
END:VCALENDAR