BEGIN:VCALENDAR
VERSION:2.0
PRODID:-//Tukios.com/
BEGIN:VEVENT
UID:47485371-a969-47e1-aefb-db854df06023@www.holmesmemorialchapel.com
DTSTAMP:20260425T222708Z
DTSTART:20260428T170000Z
DTEND:20260428T180000Z
SUMMARY:Funeral Service
DESCRIPTION:
URL:https://www.holmesmemorialchapel.com/obituaries/george-reed
LOCATION: 642 W Silver St  Sullivan IN 47882
GEO:39.0862952;-87.4203257
END:VEVENT
END:VCALENDAR