BEGIN:VCALENDAR
VERSION:2.0
PRODID:-//Tukios.com/
BEGIN:VEVENT
UID:2b256e6f-c9c9-4a20-83de-0f731e89929a@www.holmesmemorialchapel.com
DTSTAMP:20260423T202504Z
DTSTART:20260426T160000Z
DTEND:20260426T190000Z
SUMMARY:Visitation with Family
DESCRIPTION:
URL:https://www.holmesmemorialchapel.com/obituaries/stacy-webber
LOCATION:Holmes Memorial Chapel 642 W Silver St  Sullivan IN 47882
GEO:39.0862982;-87.4203334
END:VEVENT
END:VCALENDAR