BEGIN:VCALENDAR
VERSION:2.0
PRODID:-//Tukios.com/
BEGIN:VEVENT
UID:0c249849-808b-4533-a603-397304ea79a9@www.holmesmemorialchapel.com
DTSTAMP:20260423T202541Z
DTSTART:20260426T190000Z
DTEND:20260426T200000Z
SUMMARY:Memorial Service
DESCRIPTION:
URL:https://www.holmesmemorialchapel.com/obituaries/stacy-webber
LOCATION: 642 W Silver St  Sullivan IN 47882
GEO:39.0862952;-87.4203257
END:VEVENT
END:VCALENDAR